BEGIN:VCALENDAR
VERSION:2.0
PRODID:-//75 ans EMN - ECPv6.2.2//NONSGML v1.0//EN
CALSCALE:GREGORIAN
METHOD:PUBLISH
X-ORIGINAL-URL:https://75emn.ch
X-WR-CALDESC:évènements pour 75 ans EMN
REFRESH-INTERVAL;VALUE=DURATION:PT1H
X-Robots-Tag:noindex
X-PUBLISHED-TTL:PT1H
BEGIN:VTIMEZONE
TZID:Europe/Paris
BEGIN:DAYLIGHT
TZOFFSETFROM:+0100
TZOFFSETTO:+0200
TZNAME:CEST
DTSTART:20240331T010000
END:DAYLIGHT
BEGIN:STANDARD
TZOFFSETFROM:+0200
TZOFFSETTO:+0100
TZNAME:CET
DTSTART:20241027T010000
END:STANDARD
END:VTIMEZONE
BEGIN:VEVENT
DTSTART;TZID=Europe/Paris:20240526T173000
DTEND;TZID=Europe/Paris:20240526T173000
DTSTAMP:20260421T175859
CREATED:20231026T144413Z
LAST-MODIFIED:20240512T215056Z
UID:21976-1716744600-1716744600@75emn.ch
SUMMARY:Concert mai - PIERRE & LE LOUP
DESCRIPTION:Billetterie		\n				\n						\n					\n		\n								\n					\n		\n				\n						\n							\n					\n			\n							\n						\n				\n					\n			\n											\n												\n													\n												Précédent\n					\n					\n												Suivant
URL:https://75emn.ch/event/concert-mai/
LOCATION:Salle communale Gland\, Grand-Rue 38\, Gland\, 1196\, Suisse
ATTACH;FMTTYPE=image/png:https://75emn.ch/wp-content/uploads/2023/10/Capture-decran-2024-04-17-a-11.52.43.png
END:VEVENT
END:VCALENDAR