BEGIN:VCALENDAR
VERSION:2.0
PRODID:-//75 ans EMN - ECPv6.2.2//NONSGML v1.0//EN
CALSCALE:GREGORIAN
METHOD:PUBLISH
X-ORIGINAL-URL:https://75emn.ch
X-WR-CALDESC:évènements pour 75 ans EMN
REFRESH-INTERVAL;VALUE=DURATION:PT1H
X-Robots-Tag:noindex
X-PUBLISHED-TTL:PT1H
BEGIN:VTIMEZONE
TZID:Europe/Paris
BEGIN:DAYLIGHT
TZOFFSETFROM:+0100
TZOFFSETTO:+0200
TZNAME:CEST
DTSTART:20240331T010000
END:DAYLIGHT
BEGIN:STANDARD
TZOFFSETFROM:+0200
TZOFFSETTO:+0100
TZNAME:CET
DTSTART:20241027T010000
END:STANDARD
END:VTIMEZONE
BEGIN:VEVENT
DTSTART;TZID=Europe/Paris:20240203T200000
DTEND;TZID=Europe/Paris:20240203T200000
DTSTAMP:20260422T030051
CREATED:20230921T155630Z
LAST-MODIFIED:20240104T135943Z
UID:21627-1706990400-1706990400@75emn.ch
SUMMARY:Concert février - Ensemble Mélopée
DESCRIPTION:Billetterie		\n				\n						\n					\n		\n								\n					\n		\n				\n						\n							\n					\n			\n							\n						\n				\n					\n			\n											\n												\n													\n												Précédent\n					\n					\n												Suivant
URL:https://75emn.ch/event/concert-fevrier/
LOCATION:Salle communale Nyon\, Rue des Marchandises 5\, Nyon\, 1260\, Suisse
ATTACH;FMTTYPE=application/pdf:https://75emn.ch/wp-content/uploads/2023/09/Melopee-flyer-A5.pdf
END:VEVENT
END:VCALENDAR