BEGIN:VCALENDAR
VERSION:2.0
PRODID:-//75 ans EMN - ECPv6.2.2//NONSGML v1.0//EN
CALSCALE:GREGORIAN
METHOD:PUBLISH
X-ORIGINAL-URL:https://75emn.ch
X-WR-CALDESC:évènements pour 75 ans EMN
REFRESH-INTERVAL;VALUE=DURATION:PT1H
X-Robots-Tag:noindex
X-PUBLISHED-TTL:PT1H
BEGIN:VTIMEZONE
TZID:Europe/Paris
BEGIN:DAYLIGHT
TZOFFSETFROM:+0100
TZOFFSETTO:+0200
TZNAME:CEST
DTSTART:20230326T010000
END:DAYLIGHT
BEGIN:STANDARD
TZOFFSETFROM:+0200
TZOFFSETTO:+0100
TZNAME:CET
DTSTART:20231029T010000
END:STANDARD
END:VTIMEZONE
BEGIN:VEVENT
DTSTART;TZID=Europe/Paris:20231112T163000
DTEND;TZID=Europe/Paris:20231112T163000
DTSTAMP:20260422T153830
CREATED:20230921T152710Z
LAST-MODIFIED:20231027T093411Z
UID:21618-1699806600-1699806600@75emn.ch
SUMMARY:Concert novembre
DESCRIPTION:Billetterie		\n				\n						\n					\n		\n								\n					\n		\n				\n						\n							\n					\n			\n							\n						\n				\n					\n			\n											\n												\n													\n												Précédent\n					\n					\n												Suivant
URL:https://75emn.ch/event/concert-novembre/
LOCATION:Temple de Nyon\, Rue du Temple 2\, Nyon\, 1260\, Suisse
ATTACH;FMTTYPE=image/png:https://75emn.ch/wp-content/uploads/2023/09/75EMN-image-evenement-concert_novembre-540x540px.png
END:VEVENT
END:VCALENDAR