BEGIN:VCALENDAR
VERSION:2.0
PRODID:-//75 ans EMN - ECPv6.2.2//NONSGML v1.0//EN
CALSCALE:GREGORIAN
METHOD:PUBLISH
X-ORIGINAL-URL:https://75emn.ch
X-WR-CALDESC:évènements pour 75 ans EMN
REFRESH-INTERVAL;VALUE=DURATION:PT1H
X-Robots-Tag:noindex
X-PUBLISHED-TTL:PT1H
BEGIN:VTIMEZONE
TZID:Europe/Paris
BEGIN:DAYLIGHT
TZOFFSETFROM:+0100
TZOFFSETTO:+0200
TZNAME:CEST
DTSTART:20230326T010000
END:DAYLIGHT
BEGIN:STANDARD
TZOFFSETFROM:+0200
TZOFFSETTO:+0100
TZNAME:CET
DTSTART:20231029T010000
END:STANDARD
END:VTIMEZONE
BEGIN:VEVENT
DTSTART;TZID=Europe/Paris:20231216T191500
DTEND;TZID=Europe/Paris:20231216T191500
DTSTAMP:20260422T082625
CREATED:20230916T143516Z
LAST-MODIFIED:20231212T214342Z
UID:21523-1702754100-1702754100@75emn.ch
SUMMARY:Concert décembre - Les professeurs de l'EMN
DESCRIPTION:Billetterie		\n				\n						\n					\n		\n								\n					\n		\n				\n						\n							\n					\n			\n							\n						\n				\n					\n			\n											\n												\n													\n												Précédent\n					\n					\n												Suivant
URL:https://75emn.ch/event/concert-decembre/
LOCATION:Théâtre de Marens\, Rte du Stand 5\, Nyon\, 1260\, Suisse
ATTACH;FMTTYPE=image/png:https://75emn.ch/wp-content/uploads/2023/10/75EMN-image-evenement-concert_decembre-540x540px.png
END:VEVENT
END:VCALENDAR